BEGIN:VCALENDAR
VERSION:2.0
PRODID:Events Booking
BEGIN:VEVENT
UID:69eb2a5a4d574
SUMMARY:CASHFLOW strategije za življenje
DESCRIPTION:Serija treh interaktivnih delavnic finančne pismenosti skozi i
 gro CASHFLOW.
 
 Veliko ljudi dela\, zasluži\, plačuje račune in znov
 a začne isti krog. Temu pogosto rečemo podganja dirka.
 
 Na teh delav
 nicah skozi igro spoznamo\, kako deluje denarni tok\, kako razmišljajo in
 vestitorji in kako lahko začnemo graditi finančno svobodo.
 
 Koncept 
 igre je razvil Robert Kiyosaki\, avtor knjige Rich Dad Poor Dad\, ki je fi
 nančno pismenost približal milijonom ljudi po svetu.
 
 Gre za interak
 tivno izkušnjo\, kjer udeleženci skozi igro\, razpravo in praktične pri
 mere razvijajo finančno razmišljanje.
 
LOCATION:Majšperk 39
DTSTART:20260530T080000Z
DTEND:20260530T160000Z
DTSTAMP:20260316T031223Z
ORGANIZER;CN=CASHFLOW KLUB BOGATI OČKA:MAILTO:info@bogatiocka.si
GEO:46.34977;15.736089
X-APPLE-STRUCTURED-LOCATION;VALUE=URI;X-ADDRESS=Majšperk 39;X-APPLE-RADIUS
 =72;X-TITLE=KPC Majšperk:46.34977;15.736089
END:VEVENT
END:VCALENDAR